BEGIN:VCALENDAR
VERSION:2.0
PRODID:-//NSW–ACT District - ECPv6.6.2//NONSGML v1.0//EN
CALSCALE:GREGORIAN
METHOD:PUBLISH
X-ORIGINAL-URL:https://nswact.lca.org.au
X-WR-CALDESC:Events for NSW–ACT District
REFRESH-INTERVAL;VALUE=DURATION:PT1H
X-Robots-Tag:noindex
X-PUBLISHED-TTL:PT1H
BEGIN:VTIMEZONE
TZID:Australia/Sydney
BEGIN:STANDARD
TZOFFSETFROM:+1100
TZOFFSETTO:+1000
TZNAME:AEST
DTSTART:20230401T160000
END:STANDARD
BEGIN:DAYLIGHT
TZOFFSETFROM:+1000
TZOFFSETTO:+1100
TZNAME:AEDT
DTSTART:20230930T160000
END:DAYLIGHT
END:VTIMEZONE
BEGIN:VEVENT
DTSTART;TZID=Australia/Sydney:20230621T193000
DTEND;TZID=Australia/Sydney:20230621T210000
DTSTAMP:20260421T085136
CREATED:20230607T110412Z
LAST-MODIFIED:20230607T110412Z
UID:7636-1687375800-1687381200@nswact.lca.org.au
SUMMARY:Bible Study with the Bishop
DESCRIPTION:Our next Zoom bible study led by Bishop Robert Bartholomaeus will be on Wednesday 21 June\, 7.30pm. \nPhilippians 1: The Happy Prisoner \nAll members of the NSW and ACT District are invited to participate. Register your interest with Kaye at the District Office\, email office.nsw@lca.org.au \nIf you have attended the previous Zoom studies you don’t need to register again\, you will receive the Zoom link via email. \n 
URL:https://nswact.lca.org.au/event/bible-study-with-the-bishop/
CATEGORIES:District Event,Men,Women,Youth
ATTACH;FMTTYPE=image/jpeg:https://nswact.lca.org.au/wp-content/uploads/sites/3/2023/06/Philippians-Bible-Study.jpg
ORGANIZER;CN="LCANSWACT District":MAILTO:admin.nsw@lca.org.au
END:VEVENT
END:VCALENDAR