BEGIN:VCALENDAR
VERSION:2.0
PRODID:-//NSW–ACT District - ECPv6.6.2//NONSGML v1.0//EN
CALSCALE:GREGORIAN
METHOD:PUBLISH
X-WR-CALNAME:NSW–ACT District
X-ORIGINAL-URL:https://nswact.lca.org.au
X-WR-CALDESC:Events for NSW–ACT District
REFRESH-INTERVAL;VALUE=DURATION:PT1H
X-Robots-Tag:noindex
X-PUBLISHED-TTL:PT1H
BEGIN:VTIMEZONE
TZID:Australia/Sydney
BEGIN:STANDARD
TZOFFSETFROM:+1100
TZOFFSETTO:+1000
TZNAME:AEST
DTSTART:20240406T160000
END:STANDARD
BEGIN:DAYLIGHT
TZOFFSETFROM:+1000
TZOFFSETTO:+1100
TZNAME:AEDT
DTSTART:20241005T160000
END:DAYLIGHT
END:VTIMEZONE
BEGIN:VEVENT
DTSTART;TZID=Australia/Sydney:20240823T173000
DTEND;TZID=Australia/Sydney:20240825T133000
DTSTAMP:20260420T095319
CREATED:20240703T092650Z
LAST-MODIFIED:20240703T202757Z
UID:7764-1724434200-1724592600@nswact.lca.org.au
SUMMARY:Sisterhood 2024
DESCRIPTION:Sisterhood is a retreat for women of all ages to connect with and support each other\, and to grow in our faith. The weekend includes times of Bible study and worship\, reflection and self-discovery exercises\, electives to nurture our creativity and our spirits\, and dedicated time for rest and rejuvenation. Sisterhood retreats provide a nurturing and caring environment where participants can deepen their connections\, gain personal insights\, and recharge in the company of like-minded women. \nThe theme of this year’s sisterhood retreat is “Precious”\, looking at how God loves us in the midst of struggle and pressure\, and how these times turn into something more beautiful than we can imagine. \nVISIT THE SISTERHOOD WEBSITE \nREGISTER HERE
URL:https://nswact.lca.org.au/event/sisterhood-2024/
LOCATION:Warrambui Retreat and Conference Centre\, 322 Greenwood Road\, Murrumbateman\, NSW\, 2582\, Australia
CATEGORIES:District Event,Women
ATTACH;FMTTYPE=image/jpeg:https://nswact.lca.org.au/wp-content/uploads/sites/3/2024/07/Sisterhood-2024-Pic.jpg
ORGANIZER;CN="Turning Point Ministries":MAILTO:event.bookings@tpm.org.au
END:VEVENT
END:VCALENDAR