BEGIN:VCALENDAR
VERSION:2.0
PRODID:-//NSW–ACT District - ECPv6.6.2//NONSGML v1.0//EN
CALSCALE:GREGORIAN
METHOD:PUBLISH
X-WR-CALNAME:NSW–ACT District
X-ORIGINAL-URL:https://nswact.lca.org.au
X-WR-CALDESC:Events for NSW–ACT District
REFRESH-INTERVAL;VALUE=DURATION:PT1H
X-Robots-Tag:noindex
X-PUBLISHED-TTL:PT1H
BEGIN:VTIMEZONE
TZID:Australia/Sydney
BEGIN:STANDARD
TZOFFSETFROM:+1100
TZOFFSETTO:+1000
TZNAME:AEST
DTSTART:20220402T160000
END:STANDARD
BEGIN:DAYLIGHT
TZOFFSETFROM:+1000
TZOFFSETTO:+1100
TZNAME:AEDT
DTSTART:20221001T160000
END:DAYLIGHT
END:VTIMEZONE
BEGIN:VEVENT
DTSTART;TZID=Australia/Sydney:20220422T193000
DTEND;TZID=Australia/Sydney:20220425T140000
DTSTAMP:20260425T021341
CREATED:20220323T031253Z
LAST-MODIFIED:20220323T032928Z
UID:7136-1650655800-1650895200@nswact.lca.org.au
SUMMARY:Young Adults Retreat
DESCRIPTION:YOUNG ADULTS RETREAT @ TUMBARUMBA\n\nJoin us for the Anzac Day long weekend in Tumbarumba. This camp\, we will be joined by church planters Danny Brock (Sydney) and Malcolm Hall (Albury). We are looking forward to hearing them share about being “On Mission”. The weekend should have a great mix of Bible studies\, group discussions\, outdoor activities and down time getting to know and encourage one another. Campers aged 16+ \n\nFor more information\, click here: https://www.tpm.org.au/events/yar
URL:https://nswact.lca.org.au/event/young-adults-retreat/
LOCATION:Laurel Hill Forest Lodge\, 1670 Batlow Road\, Tumbarumba\, NSW\, Australia
CATEGORIES:Youth
ORGANIZER;CN="Turning Point Ministries":MAILTO:event.bookings@tpm.org.au
END:VEVENT
END:VCALENDAR