BEGIN:VCALENDAR
VERSION:2.0
PRODID:-//NSW–ACT District - ECPv6.6.2//NONSGML v1.0//EN
CALSCALE:GREGORIAN
METHOD:PUBLISH
X-ORIGINAL-URL:https://nswact.lca.org.au
X-WR-CALDESC:Events for NSW–ACT District
REFRESH-INTERVAL;VALUE=DURATION:PT1H
X-Robots-Tag:noindex
X-PUBLISHED-TTL:PT1H
BEGIN:VTIMEZONE
TZID:Australia/Sydney
BEGIN:STANDARD
TZOFFSETFROM:+1100
TZOFFSETTO:+1000
TZNAME:AEST
DTSTART:20220402T160000
END:STANDARD
BEGIN:DAYLIGHT
TZOFFSETFROM:+1000
TZOFFSETTO:+1100
TZNAME:AEDT
DTSTART:20221001T160000
END:DAYLIGHT
END:VTIMEZONE
BEGIN:VEVENT
DTSTART;TZID=Australia/Sydney:20220819T180000
DTEND;TZID=Australia/Sydney:20220821T180000
DTSTAMP:20260424T073429
CREATED:20220520T055721Z
LAST-MODIFIED:20220520T055721Z
UID:7289-1660932000-1661104800@nswact.lca.org.au
SUMMARY:TPM Sisterhood 2022
DESCRIPTION:
URL:https://nswact.lca.org.au/event/tpm-sisterhood-2022/
LOCATION:Warrambui Retreat and Conference Centre\, 322 Greenwood Road\, Murrumbateman\, NSW\, 2582\, Australia
CATEGORIES:Women,Youth
ATTACH;FMTTYPE=image/png:https://nswact.lca.org.au/wp-content/uploads/sites/3/2022/05/TPM-Sisterhood-2022-Promo-Slide.png
ORGANIZER;CN="Turning Point Ministries":MAILTO:event.bookings@tpm.org.au
END:VEVENT
END:VCALENDAR