BEGIN:VCALENDAR
VERSION:2.0
PRODID:-//NSW–ACT District - ECPv6.6.2//NONSGML v1.0//EN
CALSCALE:GREGORIAN
METHOD:PUBLISH
X-WR-CALNAME:NSW–ACT District
X-ORIGINAL-URL:https://nswact.lca.org.au
X-WR-CALDESC:Events for NSW–ACT District
REFRESH-INTERVAL;VALUE=DURATION:PT1H
X-Robots-Tag:noindex
X-PUBLISHED-TTL:PT1H
BEGIN:VTIMEZONE
TZID:Australia/Sydney
BEGIN:STANDARD
TZOFFSETFROM:+1100
TZOFFSETTO:+1000
TZNAME:AEST
DTSTART:20230401T160000
END:STANDARD
BEGIN:DAYLIGHT
TZOFFSETFROM:+1000
TZOFFSETTO:+1100
TZNAME:AEDT
DTSTART:20230930T160000
END:DAYLIGHT
END:VTIMEZONE
BEGIN:VEVENT
DTSTART;TZID=Australia/Sydney:20231124T180000
DTEND;TZID=Australia/Sydney:20231126T180000
DTSTAMP:20260423T071541
CREATED:20231101T082826Z
LAST-MODIFIED:20231101T082826Z
UID:7700-1700848800-1701021600@nswact.lca.org.au
SUMMARY:TPM Leadership Camp
DESCRIPTION:It’s time to start thinking about TPM’s annual Leadership Camp and prepare for our summer camps. We’d love to see you all attend our training weekend. This is a compulsory event for those wishing to lead at TPM camps. \nWhen: 6pm Friday 24 – 2pm Sunday 26 November\, 2023 \nWhere: Warrambui Retreat & Conference Centre \nAge group: 16+ \nCost: Free \nWhat to expect: A great weekend learning from each other\, whilst being intentional in growing as people of God and leaders in our communities. Some of the topics we will be looking at this year include how to run studies\, how we might be able to improve our camp introductions\, and learning more about campers with additional needs and how we can cater for them. \n Safe Church Information: All 18+ leaders must complete SP3 Level 1 training or SP3 Refresher training prior to attending leadership camp so we can talk about this training at leadership camp. These are available online. Please email us if you require more information or are unsure of your training status. Leaders 18+ are also required to have a Working With Children Check (NSW) or Working With Vulnerable People card (ACT) \nRegistration: Register online here. Registrations close Friday 10 November.
URL:https://nswact.lca.org.au/event/tpm-leadership-camp/
LOCATION:Warrambui Retreat and Conference Centre\, 322 Greenwood Road\, Murrumbateman\, NSW\, 2582\, Australia
CATEGORIES:District Event,Youth
ATTACH;FMTTYPE=image/jpeg:https://nswact.lca.org.au/wp-content/uploads/sites/3/2023/11/TPM-Leadership-Camp-1.jpg
ORGANIZER;CN="Turning Point Ministries":MAILTO:event.bookings@tpm.org.au
END:VEVENT
END:VCALENDAR